BEGIN:VCALENDAR
VERSION:2.0
PRODID:-//Bramhope WI - ECPv6.15.20//NONSGML v1.0//EN
CALSCALE:GREGORIAN
METHOD:PUBLISH
X-WR-CALNAME:Bramhope WI
X-ORIGINAL-URL:https://bramhopewi.org.uk
X-WR-CALDESC:Events for Bramhope WI
REFRESH-INTERVAL;VALUE=DURATION:PT1H
X-Robots-Tag:noindex
X-PUBLISHED-TTL:PT1H
BEGIN:VTIMEZONE
TZID:UTC
BEGIN:STANDARD
TZOFFSETFROM:+0000
TZOFFSETTO:+0000
TZNAME:UTC
DTSTART:20250101T000000
END:STANDARD
END:VTIMEZONE
BEGIN:VEVENT
DTSTART;TZID=UTC:20260423T080000
DTEND;TZID=UTC:20260424T170000
DTSTAMP:20260424T094657
CREATED:20251126T150842Z
LAST-MODIFIED:20260101T153552Z
UID:2281-1776931200-1777050000@bramhopewi.org.uk
SUMMARY:Outing - Overnight Trip - Lincoln/Stamford
DESCRIPTION:
URL:https://bramhopewi.org.uk/event/overnight-trip-lincoln-stamford/
CATEGORIES:Outing
END:VEVENT
END:VCALENDAR