BEGIN:VCALENDAR
VERSION:2.0
PRODID:-//Bramhope WI - ECPv6.15.20//NONSGML v1.0//EN
CALSCALE:GREGORIAN
METHOD:PUBLISH
X-WR-CALNAME:Bramhope WI
X-ORIGINAL-URL:https://bramhopewi.org.uk
X-WR-CALDESC:Events for Bramhope WI
REFRESH-INTERVAL;VALUE=DURATION:PT1H
X-Robots-Tag:noindex
X-PUBLISHED-TTL:PT1H
BEGIN:VTIMEZONE
TZID:UTC
BEGIN:STANDARD
TZOFFSETFROM:+0000
TZOFFSETTO:+0000
TZNAME:UTC
DTSTART:20230101T000000
END:STANDARD
END:VTIMEZONE
BEGIN:VEVENT
DTSTART;TZID=UTC:20250208T083000
DTEND;TZID=UTC:20250208T130000
DTSTAMP:20260425T142812
CREATED:20250511T172648Z
LAST-MODIFIED:20250511T172648Z
UID:1849-1739003400-1739019600@bramhopewi.org.uk
SUMMARY:c. 7.9 miles walk from Roebuck Inn
DESCRIPTION:The walk will start from the Roebuck Inn car park at 8:30am sharp. We have to be at our table between 12 and 12:15 latest \n\n\n\nPlease park at the furthest point from the road in the gravelled area. The address is Roebuck Terrace\, Otley LS21 2EY. \n\n\n\nWe will leave the Roebuck car park and head uphill for a short distance before taking a footpath on the left which leads across several fields before joining the road into Clifton. We pass through Clifton and follow the road until it crosses the road out of Otley. We find a path on the right which cross fields and eventually comes out near Dob Park. We will walk down the lane all the way to Dob Park bridge\, which is a beautiful old packhorse bridge. We cross over the River Washburn here to walk on the other side of the river. We cross back over the river after a while and walk along to come out at the bridge at the end of Lindley Reservoir. We cross the bridge over the reservoir and walk along the edge of Lindley woods with the reservoir on our right. At Cinder Lane we turn right and ascend until we meet a footpath which takes us across the B6451 and climbs to Haddockstones Farm. It’s then a short walk back to Newell Carr Road and a short descent on the footpath by that road to the Roebuck. If it’s a nice day there are some lovely views on this walk. 
URL:https://bramhopewi.org.uk/event/c-7-9-miles-walk-from-roebuck-inn/
CATEGORIES:Saturday Walking group
END:VEVENT
BEGIN:VEVENT
DTSTART;TZID=UTC:20250206T190000
DTEND;TZID=UTC:20250206T210000
DTSTAMP:20260425T142812
CREATED:20241203T101412Z
LAST-MODIFIED:20250511T155740Z
UID:1741-1738868400-1738875600@bramhopewi.org.uk
SUMMARY:Street Angels
DESCRIPTION:Ian Brocklebank
URL:https://bramhopewi.org.uk/event/second-event/
CATEGORIES:Main Meeting
END:VEVENT
BEGIN:VEVENT
DTSTART;TZID=UTC:20250118T090000
DTEND;TZID=UTC:20250118T130000
DTSTAMP:20260425T142812
CREATED:20250511T172702Z
LAST-MODIFIED:20250511T172702Z
UID:1847-1737190800-1737205200@bramhopewi.org.uk
SUMMARY:c7.4 miles circular walk from Bramhope
DESCRIPTION:The walk will start from the car park near the tennis courts in Bramhope at 9:00am.  There is a toilet here. \n\n\n\nWe’ll walk along Old Lane and then cut off to the left down a path which runs alongside a farm and the recreation ground. The path goes across fields where there may be horses and sheep. We cross Occupation Lane and take a path which goes down to a stream and then up to reach Otley Old Lane\, which we cross. We cut through Greengates Farm and then follow the path to Harrogate Road. We need to take great care crossing this road. The path takes us through East Carlton and then climbs steadily towards the Chevin. We’ll walk through the edge of the Yorkgate Plantation and past the back of the Chevin Hotel to cross the Yorkgate Road. Then we’re on the Chevin. We’ll walk along to Surprise View and then descend towards the top of the Chevin Steps\, but we’re not going down them. We’ll turn right and head in a zig zag towards the car park on East Chevin Road. We’ll cross that road\, walk down the footpath for a bit and enter the Chevin Forest again. We’ll have a bit of an ascent to reach the Mistal Barn\, where we’ll stop for lunch. Then it’s a pretty easy walk back into Bramhope through the woods\, along some of the Dales Way. We’ll cross the Harrogate Road again\, near Hilton Grange and make our way back to the carpark.
URL:https://bramhopewi.org.uk/event/c7-4-miles-circular-walk-from-bramhope/
CATEGORIES:Saturday Walking group
END:VEVENT
BEGIN:VEVENT
DTSTART;TZID=UTC:20250117T140000
DTEND;TZID=UTC:20250117T153000
DTSTAMP:20260425T142812
CREATED:20250908T153144Z
LAST-MODIFIED:20250908T153144Z
UID:2164-1737122400-1737127800@bramhopewi.org.uk
SUMMARY:Garden group talk
DESCRIPTION:Talk by Cathy Kitchingham and Georgina Bordewich on growing flowers and foliage for cutting
URL:https://bramhopewi.org.uk/event/garden-group-talk-2/
CATEGORIES:Garden Group
END:VEVENT
BEGIN:VEVENT
DTSTART;TZID=UTC:20250102T190000
DTEND;TZID=UTC:20250102T210000
DTSTAMP:20260425T142812
CREATED:20241203T101219Z
LAST-MODIFIED:20250511T155748Z
UID:1739-1735844400-1735851600@bramhopewi.org.uk
SUMMARY:Simeon Wood - Musical Delight
DESCRIPTION:
URL:https://bramhopewi.org.uk/event/test-event/
CATEGORIES:Main Meeting
END:VEVENT
BEGIN:VEVENT
DTSTART;TZID=UTC:20241205T190000
DTEND;TZID=UTC:20241205T210000
DTSTAMP:20260425T142812
CREATED:20240208T060903Z
LAST-MODIFIED:20241203T100536Z
UID:1538-1733425200-1733432400@bramhopewi.org.uk
SUMMARY:Social
DESCRIPTION:
URL:https://bramhopewi.org.uk/event/social-2/
CATEGORIES:Event
END:VEVENT
BEGIN:VEVENT
DTSTART;TZID=UTC:20241107T190000
DTEND;TZID=UTC:20241107T210000
DTSTAMP:20260425T142812
CREATED:20240208T060816Z
LAST-MODIFIED:20240208T060818Z
UID:1536-1731006000-1731013200@bramhopewi.org.uk
SUMMARY:Get Ready For Christmas
DESCRIPTION:Christmas arts and crafts \n\n\n\nBeryl Mayhew
URL:https://bramhopewi.org.uk/event/get-ready-for-christmas/
END:VEVENT
BEGIN:VEVENT
DTSTART;TZID=UTC:20241003T190000
DTEND;TZID=UTC:20241003T210000
DTSTAMP:20260425T142812
CREATED:20240208T060721Z
LAST-MODIFIED:20240208T060722Z
UID:1534-1727982000-1727989200@bramhopewi.org.uk
SUMMARY:It’s Magic You Know
DESCRIPTION:Insight into Magic \n\n\n\nDavid Walsh
URL:https://bramhopewi.org.uk/event/its-magic-you-know/
END:VEVENT
BEGIN:VEVENT
DTSTART;TZID=UTC:20240907T090000
DTEND;TZID=UTC:20240907T123000
DTSTAMP:20260425T142812
CREATED:20240831T100609Z
LAST-MODIFIED:20240903T195637Z
UID:1693-1725699600-1725712200@bramhopewi.org.uk
SUMMARY:The Guiseley Gap walk starting from Surprise View
DESCRIPTION:7.6 miles harder category The Guiseley Gap walk starting from Surprise View on top of the Chevin at 09:00am. Please see link to OS Map and the PDF:  \n\n\n\nguiseley gap walk pdfDownload\n\n\n\nWe will pass by High Royds Cemetery and will walk through Parkinson’s ParkWe are going to eat at Mistal Kitchen
URL:https://bramhopewi.org.uk/event/the-guiseley-gap-walk-starting-from-surprise-view/
END:VEVENT
BEGIN:VEVENT
DTSTART;TZID=UTC:20240905T190000
DTEND;TZID=UTC:20240905T210000
DTSTAMP:20260425T142812
CREATED:20240208T060556Z
LAST-MODIFIED:20240208T060610Z
UID:1532-1725562800-1725570000@bramhopewi.org.uk
SUMMARY:From Trash to Treasure
DESCRIPTION:Cone Exchange \n\n\n\nChris Powell
URL:https://bramhopewi.org.uk/event/from-trash-to-treasure/
END:VEVENT
BEGIN:VEVENT
DTSTART;TZID=UTC:20240817T000000
DTEND;TZID=UTC:20240817T123000
DTSTAMP:20260425T142812
CREATED:20240818T132811Z
LAST-MODIFIED:20240818T143053Z
UID:1672-1723852800-1723897800@bramhopewi.org.uk
SUMMARY:Sat Walk from Saltaire(Salts Mills)
DESCRIPTION:7.1 mile walk from Saltaire(Salt Mills) taking in Five Rise Locks\, Gilstead Woods and Shipley Glen. Will leave car park at Saltsmill at 09:30. See OS map \, PDF and profile:
URL:https://bramhopewi.org.uk/event/sat-walk-from-saltairesalts-mills/
END:VEVENT
BEGIN:VEVENT
DTSTART;TZID=UTC:20240801T080000
DTEND;TZID=UTC:20240801T170000
DTSTAMP:20260425T142812
CREATED:20240208T055853Z
LAST-MODIFIED:20240208T055854Z
UID:1530-1722499200-1722531600@bramhopewi.org.uk
SUMMARY:Social
DESCRIPTION:
URL:https://bramhopewi.org.uk/event/social/
END:VEVENT
BEGIN:VEVENT
DTSTART;TZID=UTC:20240704T190000
DTEND;TZID=UTC:20240704T210000
DTSTAMP:20260425T142812
CREATED:20240208T055813Z
LAST-MODIFIED:20240208T055814Z
UID:1528-1720119600-1720126800@bramhopewi.org.uk
SUMMARY:Adventures in a Wheelchair
DESCRIPTION:Bret Crossley
URL:https://bramhopewi.org.uk/event/adventures-in-a-wheelchair/
END:VEVENT
BEGIN:VEVENT
DTSTART;TZID=UTC:20240606T190000
DTEND;TZID=UTC:20240606T210000
DTSTAMP:20260425T142812
CREATED:20240208T055720Z
LAST-MODIFIED:20240208T055721Z
UID:1526-1717700400-1717707600@bramhopewi.org.uk
SUMMARY:Prickly Pigs
DESCRIPTION:Hedgehog Rescue \n\n\n\nDiane Cook
URL:https://bramhopewi.org.uk/event/prickly-pigs/
END:VEVENT
BEGIN:VEVENT
DTSTART;TZID=UTC:20240521T180000
DTEND;TZID=UTC:20240521T220000
DTSTAMP:20260425T142812
CREATED:20240208T061959Z
LAST-MODIFIED:20240208T062001Z
UID:1542-1716314400-1716328800@bramhopewi.org.uk
SUMMARY:Pretty Woman
DESCRIPTION:Theatre trip to see Pretty Woman at Leeds Grand Theatre.
URL:https://bramhopewi.org.uk/event/pretty-woman/
END:VEVENT
BEGIN:VEVENT
DTSTART;TZID=UTC:20240502T190000
DTEND;TZID=UTC:20240502T210000
DTSTAMP:20260425T142812
CREATED:20240208T055621Z
LAST-MODIFIED:20240208T055622Z
UID:1524-1714676400-1714683600@bramhopewi.org.uk
SUMMARY:Psychology in Crime
DESCRIPTION:Investigative Psychology \n\n\n\nSam Lundrigan
URL:https://bramhopewi.org.uk/event/psychology-in-crime/
END:VEVENT
BEGIN:VEVENT
DTSTART;TZID=UTC:20240428T000000
DTEND;TZID=UTC:20240429T235959
DTSTAMP:20260425T142812
CREATED:20240208T061853Z
LAST-MODIFIED:20240208T061855Z
UID:1540-1714262400-1714435199@bramhopewi.org.uk
SUMMARY:Cambridge Trip
DESCRIPTION:An exciting overnight stay in Cambridge.
URL:https://bramhopewi.org.uk/event/cambridge-trip/
END:VEVENT
BEGIN:VEVENT
DTSTART;TZID=UTC:20240404T190000
DTEND;TZID=UTC:20240404T210000
DTSTAMP:20260425T142812
CREATED:20240208T055510Z
LAST-MODIFIED:20241203T101024Z
UID:1522-1712257200-1712264400@bramhopewi.org.uk
SUMMARY:Flower Power
DESCRIPTION:Flower Decorations \n\n\n\nJudy Watker
URL:https://bramhopewi.org.uk/event/flower-power/
CATEGORIES:Event
END:VEVENT
BEGIN:VEVENT
DTSTART;TZID=UTC:20240307T190000
DTEND;TZID=UTC:20240307T210000
DTSTAMP:20260425T142812
CREATED:20240208T055324Z
LAST-MODIFIED:20240208T055326Z
UID:1520-1709838000-1709845200@bramhopewi.org.uk
SUMMARY:Indulge in Chocolate
DESCRIPTION:Sarah Tomkinson \n\n\n\nThe Yorkshire Chocolatier
URL:https://bramhopewi.org.uk/event/indulge-in-chocolate/
END:VEVENT
END:VCALENDAR