BEGIN:VCALENDAR
VERSION:2.0
PRODID:-//Bramhope WI - ECPv6.15.20//NONSGML v1.0//EN
CALSCALE:GREGORIAN
METHOD:PUBLISH
X-WR-CALNAME:Bramhope WI
X-ORIGINAL-URL:https://bramhopewi.org.uk
X-WR-CALDESC:Events for Bramhope WI
REFRESH-INTERVAL;VALUE=DURATION:PT1H
X-Robots-Tag:noindex
X-PUBLISHED-TTL:PT1H
BEGIN:VTIMEZONE
TZID:UTC
BEGIN:STANDARD
TZOFFSETFROM:+0000
TZOFFSETTO:+0000
TZNAME:UTC
DTSTART:20250101T000000
END:STANDARD
END:VTIMEZONE
BEGIN:VEVENT
DTSTART;TZID=UTC:20260511T193000
DTEND;TZID=UTC:20260511T210000
DTSTAMP:20260420T143101
CREATED:20260402T091841Z
LAST-MODIFIED:20260402T092038Z
UID:2663-1778527800-1778533200@bramhopewi.org.uk
SUMMARY:Book Group Meeting
DESCRIPTION:The book we are reading is The Lucky Winners by K. L. Slater
URL:https://bramhopewi.org.uk/event/2663/
END:VEVENT
BEGIN:VEVENT
DTSTART;TZID=UTC:20260515T100000
DTEND;TZID=UTC:20260515T100000
DTSTAMP:20260420T143101
CREATED:20260224T150327Z
LAST-MODIFIED:20260224T150333Z
UID:2613-1778839200-1778839200@bramhopewi.org.uk
SUMMARY:Guided Tour Bolton Priory
DESCRIPTION:One of our members\, Alison Duncan was on BBC’s Country File last year giving very interesting and eloquent information about the Bolton Priory. Alison has very kindly agreed to arrange and give us an exclusive guided tour of the priory.Bolton Priory is one of the finest medieval churches in the north of England.  Since its foundation in the twelfth century\, it has been a site of continuous Christian worship\, surviving Scottish raids\, the Black Death\, the Dissolution of the Monasteries and the religious turbulence of later centuries. Throughout the centuries\, men and women have been baptised\, have married\, have worshipped and have been buried within these precincts. Untold numbers from within the parish and far beyond have come here to feel God’s presence in prayer.   \n\n\n\nThe Tea Cottage are offering us a fixed price light lunch of soup & sandwich\, cake or scone and tea or coffee
URL:https://bramhopewi.org.uk/event/guided-tour-bolton-priory/
END:VEVENT
BEGIN:VEVENT
DTSTART;TZID=UTC:20260518T140000
DTEND;TZID=UTC:20260518T160000
DTSTAMP:20260420T143101
CREATED:20260309T164807Z
LAST-MODIFIED:20260325T170401Z
UID:2632-1779112800-1779120000@bramhopewi.org.uk
SUMMARY:Garden Group
DESCRIPTION:Plant sale – bring along any plants which are surplus to requirements and they will be sold with proceeds to the WI charity for this year Martin House Children’s Hospice .
URL:https://bramhopewi.org.uk/event/garden-group-2/
CATEGORIES:Garden Group
END:VEVENT
BEGIN:VEVENT
DTSTART;TZID=UTC:20260522T100000
DTEND;TZID=UTC:20260522T120000
DTSTAMP:20260420T143101
CREATED:20260410T091017Z
LAST-MODIFIED:20260410T091535Z
UID:2667-1779444000-1779451200@bramhopewi.org.uk
SUMMARY:Park Walk
DESCRIPTION:
URL:https://bramhopewi.org.uk/event/park-walk-8/
END:VEVENT
BEGIN:VEVENT
DTSTART;TZID=UTC:20260523T083000
DTEND;TZID=UTC:20260523T133000
DTSTAMP:20260420T143101
CREATED:20260413T064540Z
LAST-MODIFIED:20260413T064618Z
UID:2685-1779525000-1779543000@bramhopewi.org.uk
SUMMARY:Saturday walk
DESCRIPTION:
URL:https://bramhopewi.org.uk/event/saturday-walk-5/
CATEGORIES:Saturday Walking group
END:VEVENT
BEGIN:VEVENT
DTSTART;TZID=UTC:20260602T100000
DTEND;TZID=UTC:20260602T150000
DTSTAMP:20260420T143101
CREATED:20260417T122952Z
LAST-MODIFIED:20260417T123128Z
UID:2710-1780394400-1780412400@bramhopewi.org.uk
SUMMARY:Guided Tour Bolton Prior
DESCRIPTION:Guided Tour Bolton Priory and Lunch at the Tea Cottage
URL:https://bramhopewi.org.uk/event/guided-tour-bolton-priory-2/
END:VEVENT
BEGIN:VEVENT
DTSTART;TZID=UTC:20260603T143000
DTEND;TZID=UTC:20260603T163000
DTSTAMP:20260420T143101
CREATED:20260304T170111Z
LAST-MODIFIED:20260304T170116Z
UID:2629-1780497000-1780504200@bramhopewi.org.uk
SUMMARY:Baking Group - A Scone for all seasons
DESCRIPTION:The theme for this meeting is Summer fruits. We are being hosted at a members house for this meeting so there will be no charge
URL:https://bramhopewi.org.uk/event/baking-group-a-scone-for-all-seasons-3/
END:VEVENT
BEGIN:VEVENT
DTSTART;TZID=UTC:20260604T090000
DTEND;TZID=UTC:20260604T093000
DTSTAMP:20260420T143101
CREATED:20251126T152037Z
LAST-MODIFIED:20260227T130104Z
UID:2295-1780563600-1780565400@bramhopewi.org.uk
SUMMARY:Main Meeting - Pro Organiser A tidy mind
DESCRIPTION:
URL:https://bramhopewi.org.uk/event/main-meeting-pro-organiser-a-tidy-mind-2/
CATEGORIES:Main Meeting
END:VEVENT
BEGIN:VEVENT
DTSTART;TZID=UTC:20260612T100000
DTEND;TZID=UTC:20260612T120000
DTSTAMP:20260420T143101
CREATED:20260410T091243Z
LAST-MODIFIED:20260410T091244Z
UID:2671-1781258400-1781265600@bramhopewi.org.uk
SUMMARY:Park Walk
DESCRIPTION:
URL:https://bramhopewi.org.uk/event/park-walk-9/
END:VEVENT
BEGIN:VEVENT
DTSTART;TZID=UTC:20260617T193000
DTEND;TZID=UTC:20260617T213000
DTSTAMP:20260420T143101
CREATED:20260417T123409Z
LAST-MODIFIED:20260417T123410Z
UID:2715-1781724600-1781731800@bramhopewi.org.uk
SUMMARY:The Girl on the Train Theatre trip
DESCRIPTION:Based on the bestselling novel by Paula Hawkins and DreamWorks film \n\n\n\nAdapted by Rachel Wagstaff and Duncan Abel \n\n\n\nDirected by Rick Hyland \n\n\n\n“Everyone has bad thoughts. It’s how we act on them that counts.” \n\n\n\nAdapted from Paula Hawkins’ best-selling novel\, The Girl on the Train is a gripping psychological thriller that keeps audiences guessing until the final moments. \n\n\n\nWhen Rachel Watson witnesses something shocking\, her curiosity quickly spirals into obsession. As she becomes entangled in a missing person investigation\, the line between memory and imagination becomes blurred. \n\n\n\nHow much can she trust the people in her life? What about the ones she’s been watching? And most of all… can she trust herself? \n\n\n\nWith twists at every turn\, this dark and atmospheric story explores memory\, identity\, and the fine line between truth and illusion. If you love compelling drama\, sharp storytelling and edge-of-your-seat suspense\, this is not to be missed.
URL:https://bramhopewi.org.uk/event/the-girl-on-the-train-theatre-trip/
END:VEVENT
BEGIN:VEVENT
DTSTART;TZID=UTC:20260624T103000
DTEND;TZID=UTC:20260624T170000
DTSTAMP:20260420T143101
CREATED:20260309T165012Z
LAST-MODIFIED:20260325T170333Z
UID:2634-1782297000-1782320400@bramhopewi.org.uk
SUMMARY:Garden Group
DESCRIPTION:Visit to The Old Priory \, Everingham and two smaller gardens in Shiptonthorpe .
URL:https://bramhopewi.org.uk/event/garden-group-3/
CATEGORIES:Garden Group
END:VEVENT
BEGIN:VEVENT
DTSTART;TZID=UTC:20260702T190000
DTEND;TZID=UTC:20260702T213000
DTSTAMP:20260420T143101
CREATED:20251126T152307Z
LAST-MODIFIED:20260101T153524Z
UID:2297-1783018800-1783027800@bramhopewi.org.uk
SUMMARY:Main Meeting - My Year searching for a Kingfisher - Wildlife Photography
DESCRIPTION:
URL:https://bramhopewi.org.uk/event/main-meeting-my-year-searching-for-a-kingfisher-wildlife-photography/
CATEGORIES:Main Meeting
END:VEVENT
BEGIN:VEVENT
DTSTART;TZID=UTC:20260710T100000
DTEND;TZID=UTC:20260710T120000
DTSTAMP:20260420T143101
CREATED:20260410T091414Z
LAST-MODIFIED:20260410T091415Z
UID:2673-1783677600-1783684800@bramhopewi.org.uk
SUMMARY:Park Walk
DESCRIPTION:
URL:https://bramhopewi.org.uk/event/park-walk-10/
END:VEVENT
BEGIN:VEVENT
DTSTART;TZID=UTC:20260713T100000
DTEND;TZID=UTC:20260713T150000
DTSTAMP:20260420T143101
CREATED:20260417T123646Z
LAST-MODIFIED:20260417T123647Z
UID:2717-1783936800-1783954800@bramhopewi.org.uk
SUMMARY:Spirit of Endeavour Canal Trip
DESCRIPTION:We propose to do the same as in 2024 and provide our own lunch (we will ask everyone to bring 1 item). This will enable us to sail through Skipton and out towards Gargrave\, enjoying some stunning scenery and our lunch on the way. Free tea and coffee are available all day on board.  \n\n\n\nWe will board the Spirit of Endeavour (Yorkshire) just outside Skipton at 10.30 and enjoy tea/coffee and cake as we chug gently along\, returning to the car park for around 3 – 3.30. The Spirit of Endeavour has inside seating\, but we are hoping it will once again be possible to sit in the sunshine on the front deck.  \n\n\n\nThe cost of the boattrip is £19.60pp. Spirit of Endeavour (Yorkshire) is a Charitable Incorporated Organisation established in January 2022 and is a “not-for-profit” organisation run entirely by Volunteers. Numbers are strictly limited to 12 on each trip.
URL:https://bramhopewi.org.uk/event/spirit-of-endeavour-canal-trip/
END:VEVENT
BEGIN:VEVENT
DTSTART;TZID=UTC:20260713T103000
DTEND;TZID=UTC:20260713T150000
DTSTAMP:20260420T143101
CREATED:20260415T195859Z
LAST-MODIFIED:20260415T195901Z
UID:2692-1783938600-1783954800@bramhopewi.org.uk
SUMMARY:Day on the Leeds-Liverpool canal
DESCRIPTION:
URL:https://bramhopewi.org.uk/event/day-on-the-leeds-liverpool-canal/
END:VEVENT
BEGIN:VEVENT
DTSTART;TZID=UTC:20260720T100000
DTEND;TZID=UTC:20260720T150000
DTSTAMP:20260420T143101
CREATED:20260417T123806Z
LAST-MODIFIED:20260417T123807Z
UID:2719-1784541600-1784559600@bramhopewi.org.uk
SUMMARY:Spirit of Endeavour Canal Trip
DESCRIPTION:We propose to do the same as in 2024 and provide our own lunch (we will ask everyone to bring 1 item). This will enable us to sail through Skipton and out towards Gargrave\, enjoying some stunning scenery and our lunch on the way. Free tea and coffee are available all day on board.  \n\n\n\nWe will board the Spirit of Endeavour (Yorkshire) just outside Skipton at 10.30 and enjoy tea/coffee and cake as we chug gently along\, returning to the car park for around 3 – 3.30. The Spirit of Endeavour has inside seating\, but we are hoping it will once again be possible to sit in the sunshine on the front deck.  \n\n\n\nThe cost of the boattrip is £19.60pp. Spirit of Endeavour (Yorkshire) is a Charitable Incorporated Organisation established in January 2022 and is a “not-for-profit” organisation run entirely by Volunteers. Numbers are strictly limited to 12 on each trip.
URL:https://bramhopewi.org.uk/event/spirit-of-endeavour-canal-trip-2/
END:VEVENT
BEGIN:VEVENT
DTSTART;TZID=UTC:20260720T103000
DTEND;TZID=UTC:20260720T150000
DTSTAMP:20260420T143101
CREATED:20260415T200027Z
LAST-MODIFIED:20260415T200028Z
UID:2694-1784543400-1784559600@bramhopewi.org.uk
SUMMARY:Day on the Leeds-Liverpool canal
DESCRIPTION:
URL:https://bramhopewi.org.uk/event/day-on-the-leeds-liverpool-canal-2/
END:VEVENT
BEGIN:VEVENT
DTSTART;TZID=UTC:20260721T033000
DTEND;TZID=UTC:20260721T040000
DTSTAMP:20260420T143101
CREATED:20260325T170102Z
LAST-MODIFIED:20260325T170102Z
UID:2649-1784604600-1784606400@bramhopewi.org.uk
SUMMARY:Garden group visit The Grange Carleton in Craven
DESCRIPTION:
URL:https://bramhopewi.org.uk/event/garden-group-visit-the-grange-carleton-in-craven/
CATEGORIES:Garden Group
END:VEVENT
BEGIN:VEVENT
DTSTART;TZID=UTC:20260806T190000
DTEND;TZID=UTC:20260806T213000
DTSTAMP:20260420T143101
CREATED:20251126T152433Z
LAST-MODIFIED:20260101T153517Z
UID:2299-1786042800-1786051800@bramhopewi.org.uk
SUMMARY:Main Meeting - Social more info to come
DESCRIPTION:
URL:https://bramhopewi.org.uk/event/main-meeting-social-more-info-to-come/
CATEGORIES:Main Meeting
END:VEVENT
BEGIN:VEVENT
DTSTART;TZID=UTC:20260812T143000
DTEND;TZID=UTC:20260812T163000
DTSTAMP:20260420T143101
CREATED:20260417T124110Z
LAST-MODIFIED:20260417T124111Z
UID:2721-1786545000-1786552200@bramhopewi.org.uk
SUMMARY:Cream Tea
DESCRIPTION:We are running our cream tea again this year. There will be cheese scones with butter and onion marmalade\, fruit scones with clotted cream and jam\, a variety of drinks. All the proceeds of the event will go to our charity of the year Martin House
URL:https://bramhopewi.org.uk/event/cream-tea/
END:VEVENT
BEGIN:VEVENT
DTSTART;TZID=UTC:20260825T143000
DTEND;TZID=UTC:20260825T163000
DTSTAMP:20260420T143101
CREATED:20260417T124315Z
LAST-MODIFIED:20260417T124316Z
UID:2723-1787668200-1787675400@bramhopewi.org.uk
SUMMARY:Cream Tea
DESCRIPTION:We are running our cream tea again this year. There will be cheese scones with butter and onion marmalade\, fruit scones with clotted cream and jam\, a variety of drinks. All the proceeds of the event will go to our charity of the year Martin House
URL:https://bramhopewi.org.uk/event/cream-tea-2/
END:VEVENT
BEGIN:VEVENT
DTSTART;TZID=UTC:20260903T190000
DTEND;TZID=UTC:20260903T213000
DTSTAMP:20260420T143101
CREATED:20251126T152557Z
LAST-MODIFIED:20260101T153509Z
UID:2301-1788462000-1788471000@bramhopewi.org.uk
SUMMARY:Main Meeting - Sewing the 60's
DESCRIPTION:
URL:https://bramhopewi.org.uk/event/main-meeting-sewing-the-60s/
CATEGORIES:Main Meeting
END:VEVENT
BEGIN:VEVENT
DTSTART;TZID=UTC:20260914T140000
DTEND;TZID=UTC:20260914T170000
DTSTAMP:20260420T143101
CREATED:20251017T121811Z
LAST-MODIFIED:20251017T121811Z
UID:2204-1789394400-1789405200@bramhopewi.org.uk
SUMMARY:Garden group event
DESCRIPTION:A visit to Littlethorpe Manor near Ripon
URL:https://bramhopewi.org.uk/event/garden-group-event/
CATEGORIES:Garden Group
END:VEVENT
BEGIN:VEVENT
DTSTART;TZID=UTC:20261001T190000
DTEND;TZID=UTC:20261001T213000
DTSTAMP:20260420T143101
CREATED:20251126T152715Z
LAST-MODIFIED:20260101T153500Z
UID:2303-1790881200-1790890200@bramhopewi.org.uk
SUMMARY:Main Meeting - History of Women in Medicine
DESCRIPTION:
URL:https://bramhopewi.org.uk/event/main-meeting-history-of-women-in-medicine/
CATEGORIES:Main Meeting
END:VEVENT
BEGIN:VEVENT
DTSTART;TZID=UTC:20261105T190000
DTEND;TZID=UTC:20261105T213000
DTSTAMP:20260420T143101
CREATED:20251126T152818Z
LAST-MODIFIED:20260101T153452Z
UID:2305-1793905200-1793914200@bramhopewi.org.uk
SUMMARY:Main Meeting - Circle Dancing
DESCRIPTION:
URL:https://bramhopewi.org.uk/event/main-meeting-circle-dancing/
CATEGORIES:Main Meeting
END:VEVENT
BEGIN:VEVENT
DTSTART;TZID=UTC:20261203T190000
DTEND;TZID=UTC:20261203T213000
DTSTAMP:20260420T143101
CREATED:20251126T152941Z
LAST-MODIFIED:20260101T153443Z
UID:2307-1796324400-1796333400@bramhopewi.org.uk
SUMMARY:Main Meeting - Christmas Social - more info to com
DESCRIPTION:
URL:https://bramhopewi.org.uk/event/main-meeting-christmas-social-more-info-to-com/
CATEGORIES:Main Meeting
END:VEVENT
END:VCALENDAR