BEGIN:VCALENDAR
VERSION:2.0
PRODID:-//Bramhope WI - ECPv6.15.20//NONSGML v1.0//EN
CALSCALE:GREGORIAN
METHOD:PUBLISH
X-WR-CALNAME:Bramhope WI
X-ORIGINAL-URL:https://bramhopewi.org.uk
X-WR-CALDESC:Events for Bramhope WI
REFRESH-INTERVAL;VALUE=DURATION:PT1H
X-Robots-Tag:noindex
X-PUBLISHED-TTL:PT1H
BEGIN:VTIMEZONE
TZID:UTC
BEGIN:STANDARD
TZOFFSETFROM:+0000
TZOFFSETTO:+0000
TZNAME:UTC
DTSTART:20240101T000000
END:STANDARD
END:VTIMEZONE
BEGIN:VEVENT
DTSTART;TZID=UTC:20250701T104500
DTEND;TZID=UTC:20250701T170000
DTSTAMP:20260422T190019
CREATED:20250530T091656Z
LAST-MODIFIED:20250530T091656Z
UID:1941-1751366700-1751389200@bramhopewi.org.uk
SUMMARY:Garden Group - visit to gardens in Sheffield
DESCRIPTION:2 gardens in Sheffield\, both with guided tours. \n\n\n\nThe Jungle Garden in the morning and Sheffield Botanical Gardens in the afternoon.
URL:https://bramhopewi.org.uk/event/garden-group-visit-to-gardens-in-sheffield/
CATEGORIES:Garden Group
END:VEVENT
BEGIN:VEVENT
DTSTART;TZID=UTC:20250703T193000
DTEND;TZID=UTC:20250703T213000
DTSTAMP:20260422T190019
CREATED:20250511T164034Z
LAST-MODIFIED:20250511T164034Z
UID:1795-1751571000-1751578200@bramhopewi.org.uk
SUMMARY:Social - Race Night
DESCRIPTION:
URL:https://bramhopewi.org.uk/event/social-race-night/
CATEGORIES:Main Meeting
END:VEVENT
BEGIN:VEVENT
DTSTART;TZID=UTC:20250705T093000
DTEND;TZID=UTC:20250705T140000
DTSTAMP:20260422T190019
CREATED:20250625T191548Z
LAST-MODIFIED:20250625T191548Z
UID:2050-1751707800-1751724000@bramhopewi.org.uk
SUMMARY:Saturday walk: 5th July: Ripon Circular along the canal - c 7 miles\, Easy
DESCRIPTION:The walk will start from the St Marygate car park in the centre of Ripon\, at 9:30am. Pay for over 4 hours and take cash\, as well as a card\, just in case. \n\n\n\nThere are public toilets at the top of the car park\, and we will all walk past them at the start of the walk. \n\n\n\nAfter the toilet stop\, we walk out by the side of the cathedral and on pavements down a couple of streets to reach the canal path. This is then a pleasant walk by the water\, past locks\, and a nature reserve. We cross the canal later on\, by a lock and after walking a little way down the other side of the canal we then leave that path to go through some fields. We walk through a poultry farm and now that the bird flu restrictions have been lifted (again)\, we may be walking amongst freely roaming hens. We come out near some barn conversions and walk up the diverted path to reach Bishop Monkton. This is a lovely little village\, but we don’t see much of it before we set off down a narrow path (which can be muddy if there has been rain) and into some more fields. We go through another poultry farm. I hope you all like chickens! \n\n\n\nWe come out on to a quiet tarmac road with a pavement and stay on that through the village of Littlethorpe before rejoining the canal and retracing our steps back to Ripon. \n\n\n\nI’ve booked for lunch at The Chimes Tea room in Ripon.   https://www.visitharrogate.co.uk/business-directory/chimes-cafe \n\n\n\nMark will be sending me the current menu when I advise him of the timings of the walk. I’ll send them out to those who sign up so we can do a pre-order for him. \n\n\n\nIf the walk takes under 3 hours\, we’ll go back to the cars and change out of our boots. \n\n\n\nAs usual\, we’ll encounter a variety of stiles and gates on this walk and livestock (mostly chickens) might be in the fields. If you have any concerns about slipping in any mud\, I advise bringing a pole. \n\n\n\nPlease wear appropriate clothing and footwear\, which take account of the weather forecast. I do my best to assess the weather and the likely walking conditions but would ask everyone to decide whether a particular walk is right for them on that day. Please note that everyone taking part in the walk does so at their own risk. \n\n\n\nHere’s the OS Map App link.  \n\n\n\nhttps://explore.osmaps.com/route/10097332/ripon-canal?lat=54.117249&lon=-1.537810&zoom=12.2821&style=Standard&type=2d
URL:https://bramhopewi.org.uk/event/saturday-walk-5th-july-ripon-circular-along-the-canal-c-7-miles-easy/
CATEGORIES:Saturday Walking group
END:VEVENT
BEGIN:VEVENT
DTSTART;TZID=UTC:20250709T093000
DTEND;TZID=UTC:20250709T123000
DTSTAMP:20260422T190019
CREATED:20260101T152217Z
LAST-MODIFIED:20260101T152217Z
UID:2463-1752053400-1752064200@bramhopewi.org.uk
SUMMARY:Midweek walk: circular route from Bramhope via Eccup and return through Golden Acre Park ( approx 4.5 miles ) 
DESCRIPTION:We start at the roundabout at the junction of A660 and King’s Road in Bramhope . We immediately set off across fields to Lineham Farm \, and from there to Brookland Farm . Continuing over fields we reach Bank House Farm at Eccup and follow Eccup Lane to Five Lane Ends . We then turn down King Lane to enter Golden Acre Park where we have our reward of a cuppa at the cafe . A short walk back up the A660 brings us back to our start point .  \n\n\n\nThe walk It is fairly flat \, with a couple of very short gentle inclines. We are walking mainly on fields \, and fairly quiet country lanes \, with main road at the end .There are several stiles and we are likely to encounter sheep and perhaps cattle but horses are unlikely . The ground may be muddy if there has been significant rain \, please wear stout shoes . Poles shouldn’t be needed . Please keep to the side when walking along roads .
URL:https://bramhopewi.org.uk/event/midweek-walk-circular-route-from-bramhope-via-eccup-and-return-through-golden-acre-park-approx-4-5-miles/
CATEGORIES:Mid-Week Walking Group
END:VEVENT
BEGIN:VEVENT
DTSTART;TZID=UTC:20250718T100000
DTEND;TZID=UTC:20250718T120000
DTSTAMP:20260422T190019
CREATED:20250705T094255Z
LAST-MODIFIED:20250705T100238Z
UID:2074-1752832800-1752840000@bramhopewi.org.uk
SUMMARY:July 18th Park Walk
DESCRIPTION:Gallows Hill and Otley park
URL:https://bramhopewi.org.uk/event/park-walk/
CATEGORIES:Park Walking Group
END:VEVENT
BEGIN:VEVENT
DTSTART;TZID=UTC:20250719T080000
DTEND;TZID=UTC:20250719T170000
DTSTAMP:20260422T190019
CREATED:20250625T191522Z
LAST-MODIFIED:20250625T191522Z
UID:2053-1752912000-1752944400@bramhopewi.org.uk
SUMMARY:Saturday 19th July: South Stainley Walk: easy 6.3 miles
DESCRIPTION:
URL:https://bramhopewi.org.uk/event/saturday-19th-july-south-stainley-walk-easy-6-3-miles/
CATEGORIES:Saturday Walking group
END:VEVENT
BEGIN:VEVENT
DTSTART;TZID=UTC:20250721T143000
DTEND;TZID=UTC:20250721T143000
DTSTAMP:20260422T190019
CREATED:20250908T145558Z
LAST-MODIFIED:20250908T145558Z
UID:2087-1753108200-1753108200@bramhopewi.org.uk
SUMMARY:Visit to Garden in Cookridge
DESCRIPTION:A guided tour of The Orchard\, 5a Blackwood Rise Cookridge LS16 7BG a small but beautiful garden on several levels
URL:https://bramhopewi.org.uk/event/visit-to-garden-in-cookridge/
CATEGORIES:Garden Group
END:VEVENT
BEGIN:VEVENT
DTSTART;TZID=UTC:20250722T140000
DTEND;TZID=UTC:20250722T160000
DTSTAMP:20260422T190019
CREATED:20250511T164026Z
LAST-MODIFIED:20250511T164026Z
UID:1824-1753192800-1753200000@bramhopewi.org.uk
SUMMARY:Art & Craft group project Workshop
DESCRIPTION:Art & Craft group project Workshop
URL:https://bramhopewi.org.uk/event/art-craft-group-project-workshop/
CATEGORIES:Art & Craft Workshop
END:VEVENT
BEGIN:VEVENT
DTSTART;TZID=UTC:20250723T143000
DTEND;TZID=UTC:20250723T170000
DTSTAMP:20260422T190019
CREATED:20250511T164015Z
LAST-MODIFIED:20250511T164015Z
UID:1787-1753281000-1753290000@bramhopewi.org.uk
SUMMARY:Cream Tea (to raise funds for our Charity of the year)
DESCRIPTION:
URL:https://bramhopewi.org.uk/event/cream-tea-to-raise-funds-for-our-charity-of-the-year-2/
CATEGORIES:Outing
END:VEVENT
BEGIN:VEVENT
DTSTART;TZID=UTC:20250731T093000
DTEND;TZID=UTC:20250731T123000
DTSTAMP:20260422T190019
CREATED:20260101T152230Z
LAST-MODIFIED:20260101T152230Z
UID:2461-1753954200-1753965000@bramhopewi.org.uk
SUMMARY:Midweek walk: Burley in Wharfedale & Menston (c 6 miles) 
DESCRIPTION:Our walk starts at the roundabout just outside Burley and takes us initially down the old Otley Road before we turn right and head across Otley Golf course and up to the old railway cutting. There are a couple of short uphill sections here which can be muddy\, and some steps to negotiate before we reach Ellar Ghyll and turn towards Menston\, negotiating a slightly tricky descent and some steps at this point. Having made our way through Menston we are soon in open countryside and the highlight of the walk on a fine day\, with delightful views down into the Wharfe Valley. On reaching Burley station we turn right into the village for a welcome cuppa at Cock Pit Farm tearooms before the final leg of our walk\, which takes us down to the River Wharfe and along a popular path beside the river to the roundabout on the bypass from where we head back to the cars. It could be muddy\, and remember that the vegetation can be very high at this time of year and the grass will be wet in the morning. Please also be aware that there are stiles\, open fields and short uphill and downhill sections on this walk\, and that the route crosses both a golf course and stables. Boots and poles are recommended.
URL:https://bramhopewi.org.uk/event/midweek-walk-burley-in-wharfedale-menston-c-6-miles/
CATEGORIES:Mid-Week Walking Group
END:VEVENT
END:VCALENDAR