BEGIN:VCALENDAR
VERSION:2.0
PRODID:-//Bramhope WI - ECPv6.15.20//NONSGML v1.0//EN
CALSCALE:GREGORIAN
METHOD:PUBLISH
X-ORIGINAL-URL:https://bramhopewi.org.uk
X-WR-CALDESC:Events for Bramhope WI
REFRESH-INTERVAL;VALUE=DURATION:PT1H
X-Robots-Tag:noindex
X-PUBLISHED-TTL:PT1H
BEGIN:VTIMEZONE
TZID:UTC
BEGIN:STANDARD
TZOFFSETFROM:+0000
TZOFFSETTO:+0000
TZNAME:UTC
DTSTART:20240101T000000
END:STANDARD
END:VTIMEZONE
BEGIN:VEVENT
DTSTART;TZID=UTC:20250806T093000
DTEND;TZID=UTC:20250806T123000
DTSTAMP:20260422T171807
CREATED:20260101T152254Z
LAST-MODIFIED:20260101T152254Z
UID:2458-1754472600-1754483400@bramhopewi.org.uk
SUMMARY:Midweek walk: 5 miles from Follifoot to Spofforth and return along  Crimple Beck.
DESCRIPTION:This is an easy\, fairly flat walk through two lovely villages which have some interesting history\, before returning along Crimple Beck\, from where some unusual geological formations can be seen. The walk takes us on footpaths\, across fields and through Spofforth Golf Course\, then returns along the beck. There are inevitably a couple of stretches along roads but the rest of the walk makes up for them. There are few stiles\, however the beckside path is narrow and can be muddy and overgrown. Also please be aware that there could be long grass in some fields which can be very wet in the morning. We will stop for coffee at the Castle Inn in Spofforth which has outdoor as well as indoor space. 
URL:https://bramhopewi.org.uk/event/midweek-walk-5-miles-from-follifoot-to-spofforth-and-return-along-crimple-beck/
CATEGORIES:Mid-Week Walking Group
END:VEVENT
BEGIN:VEVENT
DTSTART;TZID=UTC:20250807T193000
DTEND;TZID=UTC:20250807T210000
DTSTAMP:20260422T171807
CREATED:20250511T164007Z
LAST-MODIFIED:20250511T164007Z
UID:1802-1754595000-1754600400@bramhopewi.org.uk
SUMMARY:Medieval Leeds - Prof. Joyce Hill
DESCRIPTION:Medieval Leeds – Prof. Joyce Hill
URL:https://bramhopewi.org.uk/event/medieval-leeds-prof-joyce-hill/
CATEGORIES:Main Meeting
END:VEVENT
BEGIN:VEVENT
DTSTART;TZID=UTC:20250814T111500
DTEND;TZID=UTC:20250814T170000
DTSTAMP:20260422T171807
CREATED:20250511T163959Z
LAST-MODIFIED:20250511T163959Z
UID:1789-1755170100-1755190800@bramhopewi.org.uk
SUMMARY:Steam train ride and Railway Children Performance
DESCRIPTION:
URL:https://bramhopewi.org.uk/event/steam-train-ride-and-railway-children-performance/
CATEGORIES:Outing
END:VEVENT
BEGIN:VEVENT
DTSTART;TZID=UTC:20250815T103000
DTEND;TZID=UTC:20250815T123000
DTSTAMP:20260422T171807
CREATED:20250810T073337Z
LAST-MODIFIED:20250810T073337Z
UID:2090-1755253800-1755261000@bramhopewi.org.uk
SUMMARY:ParK Walk
DESCRIPTION:Walk round Leeds University campus
URL:https://bramhopewi.org.uk/event/park-walk-2/
END:VEVENT
BEGIN:VEVENT
DTSTART;TZID=UTC:20250816T090000
DTEND;TZID=UTC:20250816T120000
DTSTAMP:20260422T171807
CREATED:20250625T191512Z
LAST-MODIFIED:20251127T123852Z
UID:2057-1755334800-1755345600@bramhopewi.org.uk
SUMMARY:Saturday Walk:16th August – Harder walk - North of the river from Otley - c 8.3 miles
DESCRIPTION:The next walk is in the “harder” category with around 1000 ft of ascending and descending\, but we are staying nice and local this time. I think it will take us 3.5 to 4 hours. I last listed this walk in September last year. \n\n\n\nI’m going to have us try out the Whittakers pub for lunch afterwards. It’s the one that bought out The Little Corner of the World café. They have outdoor seating if the weather is OK (no TV’s outside). I think we’ll go and take our boots off at the cars before going to the pub for lunch so I’ve reserved tables from 1:15pm. Please let me have your choice from the menu so I can do a pre-order for them. \n\n\n\nhttps://www.facebook.com/profile.php?id=61557197648435&locale=en_GB \n\n\n\nThe walk will start from the free parking near the Buon Apps restaurant at 9:00am. \n\n\n\nWe will walk along the Six Dales Trail out of Otley and up the north side of the Wharfe Valley. It’s worth looking back at the great views\, if it’s clear. We go over into the Washburn Valley\, where the views are lovely again and then we climb up and back over into the Wharfe Valley. Altogether there’s just over 1\,000 ft of climbing. \n\n\n\nThere are plenty of stiles on this walk and whilst some paths and the road walking will be OK\, whatever the weather\, the numerous fields could be muddy. We will definitely meet livestock and the various fields\, usually sheep and cattle. \n\n\n\nAs this is quite a long walk\, you might wish to bring a flask and a snack\, and we’ll stop for that on the way round somewhere. We might have to have it standing up! \n\n\n\nPlease wear appropriate clothing and footwear\, which take account of the weather forecast. A pole would be a good idea because of the two hills and the possibility of mud. I do my best to assess the weather and the likely walking conditions but would ask everyone to decide whether a particular walk is right for them on that day. Please note that everyone taking part in the walk does so at their own risk. \n\n\n\nOS Map App link \n\n\n\nhttps://explore.osmaps.com/route/15777609/otley-to-clifton-with-extension-to-rose-tree-farm
URL:https://bramhopewi.org.uk/event/saturday-walk16th-august-likely-to-be-a-fairly-local-walk-bramhope-otley-to-be-decided/
CATEGORIES:Saturday Walking group
END:VEVENT
BEGIN:VEVENT
DTSTART;TZID=UTC:20250820T093000
DTEND;TZID=UTC:20250820T130000
DTSTAMP:20260422T171807
CREATED:20250822T204121Z
LAST-MODIFIED:20250822T204207Z
UID:2115-1755682200-1755694800@bramhopewi.org.uk
SUMMARY:Midweek Walk: The Walk of many Stiles (Beckwithshaw Circular): 4 miles.
DESCRIPTION:This is a relatively easy walk starting from the car park next to the church in Beckwithshaw (look out for a right turn opposite the Smiths Arms). We make our way through field paths\, back lanes and tracks\, passing some impressive houses\, to the hamlet of Beckwith before we pick up a section of the Harrogate Ringway then swing back round to return to the village. In the past some sections of this walk have had long grass which can be wet in the morning or after rain\, and nettles which are currently very tall\, so please dress appropriately\, and there will probably be livestock (both horses and cattle) in the fields. But above all\, there are lots of stiles (25 on one count\, although I think a few may have been replaced by gates!). Horticap\, just round the corner has a delightful café for refreshments after the walk or if it is a warm day The Smith’s Arms opposite the church has cold drinks and outdoor seating.
URL:https://bramhopewi.org.uk/event/midweek-walk/
CATEGORIES:Mid-Week Walking Group
END:VEVENT
BEGIN:VEVENT
DTSTART;TZID=UTC:20250821T140000
DTEND;TZID=UTC:20250821T170000
DTSTAMP:20260422T171807
CREATED:20250530T113100Z
LAST-MODIFIED:20250530T113100Z
UID:1952-1755784800-1755795600@bramhopewi.org.uk
SUMMARY:Garden group - visit to Norton Conyers ( excludes house )
DESCRIPTION:Guided tour of the mid 18th century walled garden with one of the senior gardeners . Please note this visit does NOT include the house .
URL:https://bramhopewi.org.uk/event/garden-group-visit-to-norton-conyers-excludes-house/
CATEGORIES:Garden Group
END:VEVENT
BEGIN:VEVENT
DTSTART;TZID=UTC:20250826T143000
DTEND;TZID=UTC:20250826T170000
DTSTAMP:20260422T171807
CREATED:20250511T163950Z
LAST-MODIFIED:20250511T163950Z
UID:1791-1756218600-1756227600@bramhopewi.org.uk
SUMMARY:Cream Tea (to raise funds for our Charity of the year)
DESCRIPTION:
URL:https://bramhopewi.org.uk/event/cream-tea-to-raise-funds-for-our-charity-of-the-year/
CATEGORIES:Outing
END:VEVENT
BEGIN:VEVENT
DTSTART;TZID=UTC:20250830T090000
DTEND;TZID=UTC:20250830T120000
DTSTAMP:20260422T171807
CREATED:20250625T191454Z
LAST-MODIFIED:20251127T123608Z
UID:2059-1756544400-1756555200@bramhopewi.org.uk
SUMMARY:Saturday Walk: 30th August - medium category - c 7.3 miles\, circular walk from the Mistal cafe on the Chevin
DESCRIPTION:I’m choosing another walk close to home for the next one. It was mentioned how much people liked the food at the Mistal (previously the Cheerful Chilli) so we’ll go there for lunch after this walk on the Chevin. Last time we used them they let us start the walk from there and we used their parking. They’re not open until later in the week\, so I’ll double check and confirm back to you all. It’s one I’ve made up to be the right length. This walk has a bit of up and down in it but it’s mostly gradual and we’re not going up the Chevin steps. The total ascending is just over 1000 feet. I estimate that this walk will take around 3 hours. \n\n\n\nI have emailed my previous contact but not had a response as yet. Previously they wanted a pre-order\, so please have a look at the menu link and let me know what food you would like\, if you sign up for this walk. \n\n\n\n\nBREAKFAST\, BRUNCH & LUNCH MENU\n\n\n\n\nThe walk will start from the Mistal café car park on the left-hand side as you descend the Chevin on East Chevin Road at 9:00am.  \n\n\n\nWe’ll turn left out of the Mistal car park and walk down and through the public car park on the other side of the road to pick up the little path by the side of the road. We’ll come out on the East Chevin Road and carefully cross it to head up the path at the side of the house. This takes us up to Surprise View. We’ll continue past there and into the woods where eventually we emerge into a field where we can see the York Gate Road. We cross York Gate and pick up another path which heads down towards an old quarry\, we’ll turn left along another good path and come out past Upcroft Farm. We’ll head down Carlton Lane a little way and then pick up another path which will bring us out in West Carlton. We cross Carlton Lane again and take Mall Lane up towards the Chevin Lodge Hotel. We’ll wander through their grounds (York Gate Plantation) and come out on York Gate again. We cut across a couple of fields and descend to East Chevin Road\, which we’ll cross and walk down along the pavement until we pick up a path into the Chevin Forest park. We’ll do a decent loop in here before emerging back at The Mistal in time for lunch. \n\n\n\nIf there has been some rain before this walk there will be some muddy stretches. We will encounter a variety of stiles and livestock will be in the fields. Please wear appropriate clothing and footwear\, which take account of the weather forecast\, and bring a drink. Poles are still optional but as you all know\, they are useful on the uphill and downhill sections of this walk as well as for stability if we encounter any mud. I do my best to assess the weather and the likely walking conditions but would ask everyone to decide whether a particular walk is right for them on that day. Please note that everyone taking part in the walk does so at their own risk. \n\n\n\nOS Map link\, which you can view even if you do not have the app. You should be able to see the route and the walk profile \n\n\n\nhttps://explore.osmaps.com/route/28323111/wi-route-from-the-mistal-on-otley-chevin
URL:https://bramhopewi.org.uk/event/saturday-walk-30th-august-details-tbc/
CATEGORIES:Saturday Walking group
END:VEVENT
END:VCALENDAR