BEGIN:VCALENDAR
VERSION:2.0
PRODID:-//Bramhope WI - ECPv6.15.20//NONSGML v1.0//EN
CALSCALE:GREGORIAN
METHOD:PUBLISH
X-ORIGINAL-URL:https://bramhopewi.org.uk
X-WR-CALDESC:Events for Bramhope WI
REFRESH-INTERVAL;VALUE=DURATION:PT1H
X-Robots-Tag:noindex
X-PUBLISHED-TTL:PT1H
BEGIN:VTIMEZONE
TZID:UTC
BEGIN:STANDARD
TZOFFSETFROM:+0000
TZOFFSETTO:+0000
TZNAME:UTC
DTSTART:20240101T000000
END:STANDARD
END:VTIMEZONE
BEGIN:VEVENT
DTSTART;TZID=UTC:20251002T193000
DTEND;TZID=UTC:20251002T210000
DTSTAMP:20260422T142140
CREATED:20250511T163832Z
LAST-MODIFIED:20250511T163832Z
UID:1806-1759433400-1759438800@bramhopewi.org.uk
SUMMARY:It's about the Trees - Gair Wood
DESCRIPTION:It’s about the Trees – Gair Wood – Tom Sloan (or team member)
URL:https://bramhopewi.org.uk/event/its-about-the-trees-gair-wood/
CATEGORIES:Main Meeting
END:VEVENT
BEGIN:VEVENT
DTSTART;TZID=UTC:20251008T093000
DTEND;TZID=UTC:20251008T123000
DTSTAMP:20260422T142140
CREATED:20260101T152241Z
LAST-MODIFIED:20260101T152241Z
UID:2452-1759915800-1759926600@bramhopewi.org.uk
SUMMARY:Midweek walk: 4.5 miles circular route from Linton to Collingham and Wetherby.
DESCRIPTION:Starting at the car park just before the bridge in Linton\, we make our way along a pretty beck into Collingham village and enter the churchyard where we pick up the riverside path heading towards Wetherby. This delightful path meanders alongside the River Wharfe\, before we join the road bridge to cross the river and enter Wetherby. I am hoping we can stop for coffee at Bel Sourire\, which some of our members have recommended\, before returning via a recreational area and part of Wetherby golf course and rejoining the road to walk back into Linton. We have a chance to admire some stunning houses before turning left onto quiet paths which bring us out just across the bridge from the car park. This is a fairly flat walk with just a couple of stiles and occasional steps to assist the few gentle uphill sections. Walking boots and poles are recommended.Please be aware that this walk is notoriously muddy and due to the proximity of the footpath to the river if there is significant rainfall in the preceding days I will change the route.
URL:https://bramhopewi.org.uk/event/midweek-walk-4-5-miles-circular-route-from-linton-to-collingham-and-wetherby/
CATEGORIES:Mid-Week Walking Group
END:VEVENT
BEGIN:VEVENT
DTSTART;TZID=UTC:20251010T100000
DTEND;TZID=UTC:20251010T120000
DTSTAMP:20260422T142140
CREATED:20250905T155632Z
LAST-MODIFIED:20250905T155634Z
UID:2134-1760090400-1760097600@bramhopewi.org.uk
SUMMARY:Park Walk
DESCRIPTION:
URL:https://bramhopewi.org.uk/event/park-walk-3/
END:VEVENT
BEGIN:VEVENT
DTSTART;TZID=UTC:20251022T093000
DTEND;TZID=UTC:20251022T123000
DTSTAMP:20260422T142140
CREATED:20260101T152328Z
LAST-MODIFIED:20260101T152328Z
UID:2450-1761125400-1761136200@bramhopewi.org.uk
SUMMARY:4.5 mile walk along the River Aire and Leeds-Liverpool Canal from Apperley Bridge.
DESCRIPTION:Beginning at Apperley Bridge\, the walk teeters along the edges of the River Aire to reach the new housing estate at Horsforth Vale before returning on a charming section of towpath along the Leeds – Liverpool canal. The walk is relatively flat and takes in some beautiful\, tranquil countryside. The riverside path is quite narrow in places so there could be some overgrown sections and depending on rainfall in the preceding days it could be muddy\, so appropriate footwear and poles are advised. We will aim to stop in the middle of the walk for coffee at Brodie and Flynn in Horsforth Vale\, however they do not take bookings so they may be full. They do have outdoor seating\, but we will have to see on the day.
URL:https://bramhopewi.org.uk/event/4-5-mile-walk-along-the-river-aire-and-leeds-liverpool-canal-from-apperley-bridge/
CATEGORIES:Mid-Week Walking Group
END:VEVENT
BEGIN:VEVENT
DTSTART;TZID=UTC:20251025T091500
DTEND;TZID=UTC:20251025T121500
DTSTAMP:20260422T142140
CREATED:20251016T132036Z
LAST-MODIFIED:20251016T132036Z
UID:2198-1761383700-1761394500@bramhopewi.org.uk
SUMMARY:Saturday Walk 25th October - easier category - 7 miles from Horsforth
DESCRIPTION:The next walk is a nice relatively easy walk starting from the free Fink Hill car park in Horsforth. There is a short hill fairly near the start of the walk (Hunger Hills area) and a gradual climb back up to Horsforth from the River Aire during the final third of the walk. In total there is over 900 feet of ascent\, but it doesn’t make this a hard walk. I estimate that it will take us a maximum of 3 hours. We will have lunch at the Greenhouse on Horsforth Town Street at 12:15. This is an excellent vegan café which we’ve used before. They’ve introduced a restriction on numbers for the first time – 10 max\, so I could take 12 on the walk but only 10 for the lunch. I’m sorry about this\, but they say they get too busy on a Saturday lunchtime to accommodate and more. Note that there is no cow’s milk served in hot drinks. They like the idea of pre-orders for the food\, so please have a look at the menu and let me know what you would like to eat. I love the food here and I’m not a vegan. We’ll change out of our boots at the cars and then walk up Town Street. \n\n\n\nhttps://www.thegreenhousehorsforth.co.uk/menu \n\n\n\nThe walk will start from the Fink Hill car park in Horsforth at 9:15am.  This was a free car park next to Hall Park but we may well have to pay\, so bring a card/cash etc.  See attached map. \n\n\n\nThere are no toilets at the start of this walk. \n\n\n\nA lovely\, varied walk around parts of Horsforth that takes in Hunger Hills\, the canal at Rodley and Cragg Hill. \n\n\n\nWe will walk from the car park up to Hunger Hills\, where there are great views\, then drop down to the canal at Rodley. From there we walk by the canal to Newlay where we cross the river and walk alongside it for a while. We come up and away from the river to cross the A65\, up onto Outwood Lane and back via Cragg Hill and Featherbank. \n\n\n\nMuch of this walk is on decent paths but there are a couple of stretches where we walk through woods and by the edge of a field. \n\n\n\nWe may encounter some muddy stretches on this walk\, especially if we have any rain between now and then. There aren’t really any areas where we’re likely to encounter livestock and stiles are few and far between on this walk. \n\n\n\nPlease wear appropriate clothing and footwear\, which take account of the weather forecast\, and bring a drink. I do my best to assess the weather and the likely walking conditions but would ask everyone to decide whether a particular walk is right for them on that day. Please note that everyone taking part in the walk does so at their own risk. \n\n\n\nHere’s the link for those of you who have the OS Map App. It should appear in the tab labelled “Bookmarked” when you download it.  \n\n\n\nhttps://explore.osmaps.com/route/6976961/jennys-horsforth-walk?lat=53.833870&lon=-1.663416&zoom=12.9097&style=Standard&type=2d
URL:https://bramhopewi.org.uk/event/saturday-walk-25th-october-easier-category-7-miles-from-horsforth/
CATEGORIES:Saturday Walking group
END:VEVENT
BEGIN:VEVENT
DTSTART;TZID=UTC:20251027T133000
DTEND;TZID=UTC:20251027T153000
DTSTAMP:20260422T142140
CREATED:20250908T150910Z
LAST-MODIFIED:20250908T151553Z
UID:2152-1761571800-1761579000@bramhopewi.org.uk
SUMMARY:Garden group Nostell Priory ( excludes house )
DESCRIPTION:Orchard talk with Nostell’s senior gardener . Exact time TBC
URL:https://bramhopewi.org.uk/event/nostell-priory-excludes-house/
CATEGORIES:Garden Group
END:VEVENT
END:VCALENDAR