BEGIN:VCALENDAR
VERSION:2.0
PRODID:-//Bramhope WI - ECPv6.15.20//NONSGML v1.0//EN
CALSCALE:GREGORIAN
METHOD:PUBLISH
X-WR-CALNAME:Bramhope WI
X-ORIGINAL-URL:https://bramhopewi.org.uk
X-WR-CALDESC:Events for Bramhope WI
REFRESH-INTERVAL;VALUE=DURATION:PT1H
X-Robots-Tag:noindex
X-PUBLISHED-TTL:PT1H
BEGIN:VTIMEZONE
TZID:UTC
BEGIN:STANDARD
TZOFFSETFROM:+0000
TZOFFSETTO:+0000
TZNAME:UTC
DTSTART:20250101T000000
END:STANDARD
END:VTIMEZONE
BEGIN:VEVENT
DTSTART;TZID=UTC:20260304T143000
DTEND;TZID=UTC:20260304T163000
DTSTAMP:20260420T154541
CREATED:20260225T164112Z
LAST-MODIFIED:20260225T164115Z
UID:2619-1772634600-1772641800@bramhopewi.org.uk
SUMMARY:Baking Group - A Scone for all Seasons
DESCRIPTION:The Theme for the meeting is Savoury
URL:https://bramhopewi.org.uk/event/baking-group-a-scone-for-all-seasons/
END:VEVENT
BEGIN:VEVENT
DTSTART;TZID=UTC:20260305T093000
DTEND;TZID=UTC:20260305T113000
DTSTAMP:20260420T154541
CREATED:20260102T104113Z
LAST-MODIFIED:20260102T104114Z
UID:2509-1772703000-1772710200@bramhopewi.org.uk
SUMMARY:Art and Craft - Patchwork/Quilting Group
DESCRIPTION:
URL:https://bramhopewi.org.uk/event/art-and-craft-patchwork-quilting-group-5/
LOCATION:Lewis Room\, Bramhope Village Hall
END:VEVENT
BEGIN:VEVENT
DTSTART;TZID=UTC:20260305T190000
DTEND;TZID=UTC:20260305T213000
DTSTAMP:20260420T154541
CREATED:20251126T151615Z
LAST-MODIFIED:20260101T153619Z
UID:2289-1772737200-1772746200@bramhopewi.org.uk
SUMMARY:Main Meeting - Raising a Champion
DESCRIPTION:
URL:https://bramhopewi.org.uk/event/main-meeting-raising-a-champion/
CATEGORIES:Main Meeting
END:VEVENT
BEGIN:VEVENT
DTSTART;TZID=UTC:20260307T093000
DTEND;TZID=UTC:20260307T133000
DTSTAMP:20260420T154541
CREATED:20260203T191906Z
LAST-MODIFIED:20260219T100152Z
UID:2583-1772875800-1772890200@bramhopewi.org.uk
SUMMARY:Saturday Walk: 7 miles hard category. Circular walk from Cold Stone Cut down the valley to two disused mining areas and then back up the valley side.
DESCRIPTION:The walk will start from the free car park at Coldstone Cut at 9:30am. You can just put Coldstone Cut car park into Google maps. It is near the junction of Peat Lane with the B6265\, not far from Toft Gate Barn. This is about 2 miles west of Pateley Bridge. The car park is free. There are no toilets. \n\n\n\nWe leave the car park and walk down a grassy\, and no doubt muddy\, path which runs parallel to the B6265. We cross the road and start our steady descent to the old mines and Ashfold Side Beck. There is a little wooden bridge across and then a short steep and likely slippery\, scrambly climb up the other side. We walk along the hillside on an indistinct route before descending a bit to join a good path. This path will eventually be recognisable to those of you who have done the Ladies Rigg mines walk from Pateley Bridge. We turn off that path to the right and start the ascent out of the valley. This climb goes on for some considerable time\, with little bits of relief here and there. It follows the Nidderdale Way at one point. The final section back up to the road will have us all out of breath. It’s nice to stop on the ascent to look back at the views\, which are lovely on a clear day. \n\n\n\nIt’s absolutely certain that we will encounter some muddy stretches on this walk. There aren’t so many stiles but lots of gates. There were sheep in the fields but nothing else on the recce. Please wear appropriate clothing and footwear\, which take account of the weather forecast\, and bring a drink. During the winter months I am asking everyone to walk with poles\, so please bring at least one. They will be very useful on the uphill and downhill sections on this walk and will provide great stability when we encounter mud or ice. I will not have time to recce this walk again beforehand\, so we need to be prepared for all conditions. \n\n\n\nI do my best to assess the weather and the likely walking conditions but would ask everyone to decide whether a particular walk is right for them on that day. Please note that everyone taking part in the walk does so at their own risk. \n\n\n\nLunch at The Toft Gate Barn cafe at 12:45pm
URL:https://bramhopewi.org.uk/event/saturday-walk/
CATEGORIES:Saturday Walking group
END:VEVENT
BEGIN:VEVENT
DTSTART;TZID=UTC:20260312T093000
DTEND;TZID=UTC:20260312T113000
DTSTAMP:20260420T154541
CREATED:20260102T104220Z
LAST-MODIFIED:20260102T104221Z
UID:2511-1773307800-1773315000@bramhopewi.org.uk
SUMMARY:Art and Craft- Patchwork/Quilting Group
DESCRIPTION:
URL:https://bramhopewi.org.uk/event/art-and-craft-patchwork-quilting-group-6/
LOCATION:Lewis Room\, Bramhope Village Hall
END:VEVENT
BEGIN:VEVENT
DTSTART;TZID=UTC:20260312T193000
DTEND;TZID=UTC:20260312T213000
DTSTAMP:20260420T154541
CREATED:20251126T150709Z
LAST-MODIFIED:20260101T153610Z
UID:2278-1773343800-1773351000@bramhopewi.org.uk
SUMMARY:Outing - Carousel Musical
DESCRIPTION:
URL:https://bramhopewi.org.uk/event/carousel-musical/
CATEGORIES:Outing
END:VEVENT
BEGIN:VEVENT
DTSTART;TZID=UTC:20260313T140000
DTEND;TZID=UTC:20260313T153000
DTSTAMP:20260420T154541
CREATED:20250918T164846Z
LAST-MODIFIED:20251017T120624Z
UID:2169-1773410400-1773415800@bramhopewi.org.uk
SUMMARY:Garden Group talk
DESCRIPTION:Joyce Hill talk “In the Persian Garden : Refuge & Refreshment “
URL:https://bramhopewi.org.uk/event/garden-group-talk-3/
CATEGORIES:Garden Group
END:VEVENT
BEGIN:VEVENT
DTSTART;TZID=UTC:20260319T140000
DTEND;TZID=UTC:20260319T160000
DTSTAMP:20260420T154541
CREATED:20260102T103350Z
LAST-MODIFIED:20260102T104452Z
UID:2497-1773928800-1773936000@bramhopewi.org.uk
SUMMARY:Art and Craft Project Group - Bags for Food Banks
DESCRIPTION:
URL:https://bramhopewi.org.uk/event/art-and-craft-project-group-bags-for-food-banks/
LOCATION:Methosist Church Hall
END:VEVENT
BEGIN:VEVENT
DTSTART;TZID=UTC:20260321T093000
DTEND;TZID=UTC:20260321T133000
DTSTAMP:20260420T154541
CREATED:20260203T192010Z
LAST-MODIFIED:20260203T192414Z
UID:2585-1774085400-1774099800@bramhopewi.org.uk
SUMMARY:Saturday Walk
DESCRIPTION:
URL:https://bramhopewi.org.uk/event/saturday-walk-2/
CATEGORIES:Saturday Walking group
END:VEVENT
BEGIN:VEVENT
DTSTART;TZID=UTC:20260325T093000
DTEND;TZID=UTC:20260325T120000
DTSTAMP:20260420T154541
CREATED:20260401T205821Z
LAST-MODIFIED:20260401T205823Z
UID:2660-1774431000-1774440000@bramhopewi.org.uk
SUMMARY:Midweek walk: Circular walk around Burley in Wharfedale. (249ft ascent and 249ft descent)
DESCRIPTION:Starting from Back Lane in Burley in Wharfedale we make our way to Burley House Field and follow Wood Head Beck\, mostly on good paths\, until we reach fields and begin to make our way gently uphill to Hag Farm. This section of the walk takes us through fields with livestock (mostly sheep\, although there were a few cattle when I first tried the walk) and is likely to be very muddy\, depending on the rainfall this week. From Hag Farm we pick up a track familiar to many of us and head down to Burley station and the village. We will stop for coffee in Burley either at The Coffee Tree or Arlo\, before the final leg of our walk which takes us down to the River Wharfe and along a popular path beside the river to the roundabout on the bypass where we head back to the cars. Please note the riverbank path may be incredibly muddy\, so we may have to abandon this section of the walk and return down Main Street. Good boots and poles will be essential for this walk. 
URL:https://bramhopewi.org.uk/event/midweek-walk-circular-walk-around-burley-in-wharfedale-249ft-ascent-and-249ft-descent/
END:VEVENT
BEGIN:VEVENT
DTSTART;TZID=UTC:20260327T100000
DTEND;TZID=UTC:20260327T120000
DTSTAMP:20260420T154541
CREATED:20260319T114249Z
LAST-MODIFIED:20260319T114937Z
UID:2639-1774605600-1774612800@bramhopewi.org.uk
SUMMARY:Park Walk
DESCRIPTION:We will meet outside the Capri cafe on Gledhow Valley Road LS17 6LX at 10a.m. \n\n\n\nWe will walk the loop and then return for coffee. \n\n\n\nPlease wear sensible footwear as the paths could be muddy.
URL:https://bramhopewi.org.uk/event/park-walk-7/
END:VEVENT
BEGIN:VEVENT
DTSTART;TZID=UTC:20260330T193000
DTEND;TZID=UTC:20260330T210000
DTSTAMP:20260420T154541
CREATED:20260225T163815Z
LAST-MODIFIED:20260225T163821Z
UID:2617-1774899000-1774904400@bramhopewi.org.uk
SUMMARY:Book Group
DESCRIPTION:The book we are reading is Volcano by Yvonne Weekes
URL:https://bramhopewi.org.uk/event/book-group-2/
END:VEVENT
END:VCALENDAR