BEGIN:VCALENDAR
VERSION:2.0
PRODID:-//Bramhope WI - ECPv6.15.20//NONSGML v1.0//EN
CALSCALE:GREGORIAN
METHOD:PUBLISH
X-ORIGINAL-URL:https://bramhopewi.org.uk
X-WR-CALDESC:Events for Bramhope WI
REFRESH-INTERVAL;VALUE=DURATION:PT1H
X-Robots-Tag:noindex
X-PUBLISHED-TTL:PT1H
BEGIN:VTIMEZONE
TZID:UTC
BEGIN:STANDARD
TZOFFSETFROM:+0000
TZOFFSETTO:+0000
TZNAME:UTC
DTSTART:20250101T000000
END:STANDARD
END:VTIMEZONE
BEGIN:VEVENT
DTSTART;TZID=UTC:20260422T093000
DTEND;TZID=UTC:20260422T130000
DTSTAMP:20260420T142258
CREATED:20260415T195433Z
LAST-MODIFIED:20260415T195633Z
UID:2688-1776850200-1776862800@bramhopewi.org.uk
SUMMARY:Midweek Walk: 4.5 mile circular from Castley through Riffa Woods
DESCRIPTION:This is a pleasant walk close to home taking us along gently undulating paths from Castley heading up through Ings Farm to Riffa Wood and returning across fields and quiet country lanes to Pool Bridge and along the River Wharfe to the cars. Highlights are undoubtedly the riverside path\, which on a sunny morning is a delight\, and Riffa Wood which is famous for its bluebells. Ings Farm is a working dairy farm so we may encounter livestock and plenty of mud if it has been raining\, and we will need to cross Riffa Beck using stepping stones\, however if it remains dry this shouldn’t be a problem. Please note paths could be overgrown and uneven\, also that there are stiles\, and an unavoidable short section on the main road as well as some uphill paths. The Leathley Farm shop is an option for refreshments after our walk. 
URL:https://bramhopewi.org.uk/event/midweek-walk-4-5-mile-circular-from-castley-through-riffa-woods/
END:VEVENT
BEGIN:VEVENT
DTSTART;TZID=UTC:20260423T080000
DTEND;TZID=UTC:20260424T170000
DTSTAMP:20260420T142258
CREATED:20251126T150842Z
LAST-MODIFIED:20260101T153552Z
UID:2281-1776931200-1777050000@bramhopewi.org.uk
SUMMARY:Outing - Overnight Trip - Lincoln/Stamford
DESCRIPTION:
URL:https://bramhopewi.org.uk/event/overnight-trip-lincoln-stamford/
CATEGORIES:Outing
END:VEVENT
BEGIN:VEVENT
DTSTART;TZID=UTC:20260425T083000
DTEND;TZID=UTC:20260425T130000
DTSTAMP:20260420T142258
CREATED:20260413T064132Z
LAST-MODIFIED:20260413T064222Z
UID:2681-1777105800-1777122000@bramhopewi.org.uk
SUMMARY:Saturday Walk: 25th April - in search of bluebells from the Roebuck Inn - c 7.2 mls\, harder category
DESCRIPTION:The next walk is in the harder category due to the total amount of climbing being over 1000 feet. I’m hoping the bluebells will be out There is a gradual climb at the start then some downhill to the River Washburn after that a longish flattish section and then a steep uphill section.  I estimate that this walk could take up to 3.5 hours\, we have to be at The Roebuck for 12 noon\, so I think we will need to start by 8:30am\, to be on the safe side. I’ve booked the nice room where we all sat around in a big group one time and I’ve had to pay a £50 deposit\, so there may be a charge if you cancel your place on this walk. \n\n\n\nThe pub needs a pre-order from us so please let me have your food choice when you sign up for the walk. You can choose from the lunch menu or have a starter from the main menu. \n\n\n\n\nhttps://www.theroebuckotley.co.uk/food\n\n\n\n\nThe walk will start from the Roebuck Inn car park at 8:30am sharp. We have to be at our table by 12 noon. \n\n\n\nPlease park at the furthest point from the road in the gravelled area. The address is Roebuck Terrace\, Otley LS21 2EY. \n\n\n\nWe will leave the Roebuck car park and head uphill for a short distance before taking a footpath on the left which leads across several fields before joining the road into Clifton. We pass through Clifton and follow the road until it crosses the road out of Otley. We find a path on the right which cross fields and eventually comes out at the road again. We cross and after a short walk down the road\, we pick up a path on the left into the Dob Park area. The views to the right are lovely. There can be a lot of mud on this stretch. We continue across fields to Midge Hall farm. From there we will walk down the edge of the woods where I’m hoping there will be bluebells and maybe wild garlic in flower too. We then follow a path near the River Washburn until we reach Dob Park bridge\, which is a beautiful old packhorse bridge. We do not cross the bridge on this walk but turn right up the lane and then enter fields on the left and keep going through several of them until we come to Rose Tree farm. Here we walk along the road for a short distance and then turn right up a long and uphill driveway. We pick up the Six Dales Trail for a breathless steep section\, where the backward views are lovely on a nice day. We turn right to leave the trail on a path which joins Newall Carr Road. We walk on the pavement downhill to get back to the car park at The Roebuck Inn.
URL:https://bramhopewi.org.uk/event/saturday-walk-25th-april-in-search-of-bluebells-from-the-roebuck-inn-c-7-2-mls-harder-category/
CATEGORIES:Saturday Walking group
END:VEVENT
BEGIN:VEVENT
DTSTART;TZID=UTC:20260428T143000
DTEND;TZID=UTC:20260428T160000
DTSTAMP:20260420T142258
CREATED:20260304T165828Z
LAST-MODIFIED:20260304T165836Z
UID:2627-1777386600-1777392000@bramhopewi.org.uk
SUMMARY:Baking Group - A scone for all seasons
DESCRIPTION:The theme for the meeting is Carnival. For this meeting we are trialling a new venue – Lewis Room at Bramhope Village Hall (we will be asking for cash on the day to cover the cost of the room hire £2 – £3 per person)
URL:https://bramhopewi.org.uk/event/baking-group-a-scone-for-all-seasons-2/
END:VEVENT
END:VCALENDAR